BEGIN:VCALENDAR
VERSION:2.0
PRODID:-//ConVerve GmbH//B2BMatch//EN
METHOD:PUBLISH
BEGIN:VEVENT
DTSTART:20260114T070000Z
DTEND:20260114T180000Z
SUMMARY:MICELAND 2026
LOCATION:Hilton Reykjavik Nordica Hotel
DESCRIPTION:
UID:0000001
DTSTAMP:20180215T145139Z
END:VEVENT
END:VCALENDAR
